BEGIN:VCALENDAR
VERSION:2.0
PRODID:-//RCEB - ECPv6.15.20//NONSGML v1.0//EN
CALSCALE:GREGORIAN
METHOD:PUBLISH
X-ORIGINAL-URL:https://rceb.org
X-WR-CALDESC:Events for RCEB
REFRESH-INTERVAL;VALUE=DURATION:PT1H
X-Robots-Tag:noindex
X-PUBLISHED-TTL:PT1H
BEGIN:VTIMEZONE
TZID:America/Los_Angeles
BEGIN:DAYLIGHT
TZOFFSETFROM:-0800
TZOFFSETTO:-0700
TZNAME:PDT
DTSTART:20250309T100000
END:DAYLIGHT
BEGIN:STANDARD
TZOFFSETFROM:-0700
TZOFFSETTO:-0800
TZNAME:PST
DTSTART:20251102T090000
END:STANDARD
BEGIN:DAYLIGHT
TZOFFSETFROM:-0800
TZOFFSETTO:-0700
TZNAME:PDT
DTSTART:20260308T100000
END:DAYLIGHT
BEGIN:STANDARD
TZOFFSETFROM:-0700
TZOFFSETTO:-0800
TZNAME:PST
DTSTART:20261101T090000
END:STANDARD
BEGIN:DAYLIGHT
TZOFFSETFROM:-0800
TZOFFSETTO:-0700
TZNAME:PDT
DTSTART:20270314T100000
END:DAYLIGHT
BEGIN:STANDARD
TZOFFSETFROM:-0700
TZOFFSETTO:-0800
TZNAME:PST
DTSTART:20271107T090000
END:STANDARD
END:VTIMEZONE
BEGIN:VEVENT
DTSTART;TZID=America/Los_Angeles:20260425T100000
DTEND;TZID=America/Los_Angeles:20260425T120000
DTSTAMP:20260418T205654
CREATED:20260313T163321Z
LAST-MODIFIED:20260313T163321Z
UID:65456-1777111200-1777118400@rceb.org
SUMMARY:RCEB COMMUNITY Question & Answer SESSION - IN PERSON
DESCRIPTION:Q & A \nFacilitated by Dr. Tracey Edwards for Regional Center of the East Bay \nApril 11\, 2026\, 10:00 am until 12:00 pm \nRCEB San Leandro \n500 Davis Street\, Suite 100 \nSan Leandro\, CA 94577 \n  \nApril 25\, 2026\, 10:00 am until 12:00 pm \nRCEB Concord  \n1320 Willow Pass Rd.\, # 300 \nConcord\, CA 94520 \n  \nABOUT SESSIONs (what to expect): \n\nUpbeat & welcoming space\nOpportunity to ask your questions live & receive feedback\nASL Interpreters are given upon request\nInterpretation services in other languages available upon request\nLight refreshments\nCommunity fellowship & engagement\n\nWHO IS LISTENING \nThis will be a facilitated space with RCEB Leadership from across the organization representing all departments; Cultural Community Engagement Specialist and various members of the Board of Directors. These are key players in the strategic thinking and planning that will shape RCEB going forward. \nCHILDCARE IS NOT PROVIDED \n 
URL:https://rceb.org/event/rceb-community-question-answer-session-in-person-2/
LOCATION:RCEB Concord Office\, 1320 Willow Pass Road\, Concord\, CA\, 94520\, United States
END:VEVENT
BEGIN:VEVENT
DTSTART;TZID=America/Los_Angeles:20260427T190000
DTEND;TZID=America/Los_Angeles:20260427T203000
DTSTAMP:20260418T205654
CREATED:20260417T215439Z
LAST-MODIFIED:20260417T215439Z
UID:63242-1777316400-1777321800@rceb.org
SUMMARY:Board of Director’s Meeting
DESCRIPTION:For language accommodation\, please email writetous@rceb.org by the end of the Tuesday before the board meeting. \nSimultaneous Spanish interpretation is provided at this meeting. \nBoard meetings are usually the 4th Monday of every month – no board meetings in July\, August\, or December. \nAgenda\, Minutes\, and Board Packet \nClick on the Link Below to Join: \nhttps://us06web.zoom.us/j/81708830144?pwd=J0Kv4iuCbcM7YOrS1gem2PFXVa6uXi.1 \nPasscode: 562516 \nWebinar ID: 817 0883 0144 \n\nInterested in Joining the Board of Directors?\nCheck out our news page Recruitment-board-of-directors
URL:https://rceb.org/event/board-of-directors-meeting-22/
CATEGORIES:Board Meeting
END:VEVENT
END:VCALENDAR