BEGIN:VCALENDAR
VERSION:2.0
PRODID:-//RCEB - ECPv6.15.20//NONSGML v1.0//EN
CALSCALE:GREGORIAN
METHOD:PUBLISH
X-WR-CALNAME:RCEB
X-ORIGINAL-URL:https://rceb.org
X-WR-CALDESC:Events for RCEB
REFRESH-INTERVAL;VALUE=DURATION:PT1H
X-Robots-Tag:noindex
X-PUBLISHED-TTL:PT1H
BEGIN:VTIMEZONE
TZID:America/Los_Angeles
BEGIN:DAYLIGHT
TZOFFSETFROM:-0800
TZOFFSETTO:-0700
TZNAME:PDT
DTSTART:20240310T100000
END:DAYLIGHT
BEGIN:STANDARD
TZOFFSETFROM:-0700
TZOFFSETTO:-0800
TZNAME:PST
DTSTART:20241103T090000
END:STANDARD
BEGIN:DAYLIGHT
TZOFFSETFROM:-0800
TZOFFSETTO:-0700
TZNAME:PDT
DTSTART:20250309T100000
END:DAYLIGHT
BEGIN:STANDARD
TZOFFSETFROM:-0700
TZOFFSETTO:-0800
TZNAME:PST
DTSTART:20251102T090000
END:STANDARD
BEGIN:DAYLIGHT
TZOFFSETFROM:-0800
TZOFFSETTO:-0700
TZNAME:PDT
DTSTART:20260308T100000
END:DAYLIGHT
BEGIN:STANDARD
TZOFFSETFROM:-0700
TZOFFSETTO:-0800
TZNAME:PST
DTSTART:20261101T090000
END:STANDARD
BEGIN:DAYLIGHT
TZOFFSETFROM:-0800
TZOFFSETTO:-0700
TZNAME:PDT
DTSTART:20270314T100000
END:DAYLIGHT
BEGIN:STANDARD
TZOFFSETFROM:-0700
TZOFFSETTO:-0800
TZNAME:PST
DTSTART:20271107T090000
END:STANDARD
END:VTIMEZONE
BEGIN:VEVENT
DTSTART;TZID=America/Los_Angeles:20260323T190000
DTEND;TZID=America/Los_Angeles:20260323T203000
DTSTAMP:20260421T011109
CREATED:20260226T200711Z
LAST-MODIFIED:20260314T011256Z
UID:63241-1774292400-1774297800@rceb.org
SUMMARY:Board of Director’s Meeting
DESCRIPTION:For language accommodation\, please email writetous@rceb.org by the end of the Tuesday before the board meeting. \nSimultaneous Spanish interpretation is provided at this meeting. \nBoard meetings are usually the 4th Monday of every month – no board meetings in July\, August\, or December. \nAgenda\, Minutes\, and Board Packet \nClick on the Link Below to Join: \nhttps://us06web.zoom.us/j/81708830144?pwd=J0Kv4iuCbcM7YOrS1gem2PFXVa6uXi.1 \nPasscode: 562516 \nWebinar ID: 817 0883 0144 \n\nInterested in Joining the Board of Directors?\nCheck out our news page Recruitment-board-of-directors
URL:https://rceb.org/event/board-of-directors-meeting-21/
CATEGORIES:Board Meeting
END:VEVENT
BEGIN:VEVENT
DTSTART;TZID=America/Los_Angeles:20260223T190000
DTEND;TZID=America/Los_Angeles:20260223T203000
DTSTAMP:20260421T011109
CREATED:20251217T234941Z
LAST-MODIFIED:20260130T230658Z
UID:63240-1771873200-1771878600@rceb.org
SUMMARY:Board of Director’s Meeting
DESCRIPTION:For language accommodation\, please email writetous@rceb.org by the end of the Tuesday before the board meeting. \nSimultaneous Spanish interpretation is provided at this meeting. \nBoard meetings are usually the 4th Monday of every month – no board meetings in July\, August\, or December. \nAgenda\, Minutes\, and Board Packet \nZoom Link:  https://us06web.zoom.us/j/85690357795?pwd=2AVur79EUpq7X4FN2Qnw2OMXfqbCv0.1 \nPassword: 368660 \nWebinar ID: 85690357795 \n\nInterested in Joining the Board of Directors?\nCheck out our news page Recruitment-board-of-directors
URL:https://rceb.org/event/board-of-directors-meeting-20/
CATEGORIES:Board Meeting
END:VEVENT
BEGIN:VEVENT
DTSTART;TZID=America/Los_Angeles:20260126T190000
DTEND;TZID=America/Los_Angeles:20260126T203000
DTSTAMP:20260421T011109
CREATED:20251125T194441Z
LAST-MODIFIED:20251125T194441Z
UID:61994-1769454000-1769459400@rceb.org
SUMMARY:Board of Director's Meeting
DESCRIPTION:For language accommodation\, please email writetous@rceb.org by the end of the Tuesday before the board meeting. \nSimultaneous Spanish interpretation is provided at this meeting. \nBoard meetings are usually the 4th Monday of every month – no board meetings in July\, August\, or December. \nAgenda\, Minutes\, and Board Packet \nJoin from PC\, Mac\, iPad\, or Android: \nhttps://us06web.zoom.us/j/86404428028?pwd=M4iqSJk4Q1oMiSluXluUtDJPBznGTj.1 \nPasscode:032385 \nWebinar ID: 864 0442 8028 \n  \n  \n\nInterested in Joining the Board of Directors?\nCheck out our news page Recruitment-board-of-directors
URL:https://rceb.org/event/board-of-directors-meeting-19/
LOCATION:Zoom
CATEGORIES:Board Meeting
END:VEVENT
BEGIN:VEVENT
DTSTART;TZID=America/Los_Angeles:20251124T190000
DTEND;TZID=America/Los_Angeles:20251124T210000
DTSTAMP:20260421T011109
CREATED:20250415T222447Z
LAST-MODIFIED:20251112T202109Z
UID:41080-1764010800-1764018000@rceb.org
SUMMARY:Board of Director's Meeting
DESCRIPTION:For language accommodation\, please email writetous@rceb.org by the end of the Tuesday before the board meeting. \nSimultaneous Spanish interpretation is provided at this meeting. \nBoard meetings are usually the 4th Monday of every month – no board meetings in July\, August\, or December. \nPlease join us on Zoom Webinar:  https://us06web.zoom.us/j/84879702813?pwd=uwWw7ihd04CzLEDpIZH54k9ngW3UWs.1 \nWebinar ID: 848 7970 2813\nPasscode:  059085 \nAgenda\, Minutes\, and Board Packet \n 
URL:https://rceb.org/event/board-of-directors-meeting-18/
LOCATION:Zoom
CATEGORIES:Board Meeting,RCEB Community Updates,RCEB Public Meeting
END:VEVENT
BEGIN:VEVENT
DTSTART;TZID=America/Los_Angeles:20251027T190000
DTEND;TZID=America/Los_Angeles:20251027T210000
DTSTAMP:20260421T011109
CREATED:20250415T222447Z
LAST-MODIFIED:20251125T192956Z
UID:41079-1761591600-1761598800@rceb.org
SUMMARY:Board of Director's Meeting
DESCRIPTION:For language accommodation\, please email writetous@rceb.org by the end of the Tuesday before the board meeting. \nSimultaneous Spanish interpretation is provided at this meeting. \nBoard meetings are usually the 4th Monday of every month – no board meetings in July\, August\, or December. \nPlease join us on Zoom Webinar:  https://us06web.zoom.us/j/86738435217?pwd=3mrC6apMjCCGwb25pmfOaMeVsxezCj.1 \nWebinar ID: 867 3843 5217\nPasscode:  916423 \nAgenda\, Minutes\, and Board Packet \n\nInterested in Joining the Board of Directors?\nCheck out our news page Recruitment-board-of-directors
URL:https://rceb.org/event/board-of-directors-meeting-17/
LOCATION:Zoom
CATEGORIES:Board Meeting,RCEB Community Updates,RCEB Public Meeting
END:VEVENT
BEGIN:VEVENT
DTSTART;TZID=America/Los_Angeles:20250922T190000
DTEND;TZID=America/Los_Angeles:20250922T210000
DTSTAMP:20260421T011109
CREATED:20250415T222447Z
LAST-MODIFIED:20250916T171558Z
UID:41078-1758567600-1758574800@rceb.org
SUMMARY:Board of Director's Meeting
DESCRIPTION:For language accommodation\, please email writetous@rceb.org by the end of the Tuesday before the board meeting. \nSimultaneous Spanish interpretation is provided at this meeting. \nBoard meetings are usually the 4th Monday of every month – no board meetings in July\, August\, or December. \nPlease join us on Zoom Webinar:  https://us06web.zoom.us/j/86060278932?pwd=LQfUblVgwYUX2uMnaqaOiEwur9bb93.1 \nWebinar ID:  860 6027 8932\nPasscode:  359617 \nUpdated Agenda posted 09/16/2025* \nAgenda\, Minutes\, and Board Packet
URL:https://rceb.org/event/board-of-directors-meeting-16/
LOCATION:Zoom
CATEGORIES:Board Meeting,RCEB Community Updates,RCEB Public Meeting
END:VEVENT
BEGIN:VEVENT
DTSTART;TZID=America/Los_Angeles:20250623T190000
DTEND;TZID=America/Los_Angeles:20250623T210000
DTSTAMP:20260421T011109
CREATED:20250415T222447Z
LAST-MODIFIED:20250619T020137Z
UID:41077-1750705200-1750712400@rceb.org
SUMMARY:Board of Director's Meeting
DESCRIPTION:For language accommodation\, please email writetous@rceb.org by the end of the Tuesday before the board meeting. \nSimultaneous Spanish interpretation is provided at this meeting. \nBoard meetings are usually the 4th Monday of every month – no board meetings in July\, August\, or December. \nPlease join us on Zoom Webinar: https://us06web.zoom.us/j/87057767930?pwd=bA35vGYbc7W65vmPe9Mcl5G6SN8VTa.1 \nPasscode:589565 \nWebinar ID: 870 5776 7930 \nAgenda\, Minutes\, and Board Packet \nAdded Contract outside of Board Packet: BRIDGE HOUSING
URL:https://rceb.org/event/board-of-directors-meeting-15/
LOCATION:Zoom
CATEGORIES:Board Meeting,RCEB Community Updates,RCEB Public Meeting
END:VEVENT
BEGIN:VEVENT
DTSTART;TZID=America/Los_Angeles:20250519T190000
DTEND;TZID=America/Los_Angeles:20250519T210000
DTSTAMP:20260421T011109
CREATED:20250415T222446Z
LAST-MODIFIED:20250429T190941Z
UID:41076-1747681200-1747688400@rceb.org
SUMMARY:Board of Director's Meeting
DESCRIPTION:For language accommodation\, please email writetous@rceb.org by the end of the Tuesday before the board meeting. \nSimultaneous Spanish interpretation is provided at this meeting. \nBoard meetings are usually the 4th Monday of every month – no board meetings in July\, August\, or December. \nPlease join us on Zoom Webinar:  https://us06web.zoom.us/j/84633092508?pwd=HEXS0zygw7mRIcWJtbOP7kz9OLFb4k.1 \nWebinar ID:  846 3309 2508\nPasscode:   558514 \nAgenda\, Minutes\, and Board Packet
URL:https://rceb.org/event/board-of-directors-meeting-14/
LOCATION:Zoom
CATEGORIES:Board Meeting,RCEB Community Updates,RCEB Public Meeting
END:VEVENT
BEGIN:VEVENT
DTSTART;TZID=America/Los_Angeles:20250428T190000
DTEND;TZID=America/Los_Angeles:20250428T210000
DTSTAMP:20260421T011109
CREATED:20250325T201240Z
LAST-MODIFIED:20250415T213137Z
UID:40052-1745866800-1745874000@rceb.org
SUMMARY:Board of Director's Meeting
DESCRIPTION:For language accommodation\, please email writetous@rceb.org by the end of the Tuesday before the board meeting. \nSimultaneous Spanish interpretation is provided at this meeting. \nBoard meetings are usually the 4th Monday of every month – no board meetings in July\, August\, or December. \nPlease join us on Zoom Webinar:  https://us06web.zoom.us/j/81483119402?pwd=RUzoVaWRYBDaCGxuyYYykLAgxxiAHy.1 \nWebinar ID: 814 8311 9402\nPasscode: 227039 \nAgenda\, Minutes\, and Board Packet \n 
URL:https://rceb.org/event/board-of-directors-meeting-13/
CATEGORIES:Board Meeting,RCEB Community Updates,RCEB Public Meeting
END:VEVENT
BEGIN:VEVENT
DTSTART;TZID=America/Los_Angeles:20250324T190000
DTEND;TZID=America/Los_Angeles:20250324T210000
DTSTAMP:20260421T011109
CREATED:20250228T185336Z
LAST-MODIFIED:20250319T204959Z
UID:38144-1742842800-1742850000@rceb.org
SUMMARY:Board of Director's Meeting
DESCRIPTION:For language accommodation\, please email writetous@rceb.org by the end of the Tuesday before the board meeting. \nSimultaneous Spanish interpretation is provided at this meeting. \nBoard meetings are usually the 4th Monday of every month – no board meetings in July\, August\, or December. \nPlease join us on Zoom Webinar:  https://us06web.zoom.us/j/89585843231?pwd=awa1CqWV9biAYjDm2HaQ0wjLlyAIYI.1\nWebinar ID: 895 8584 3231\nPasscode: 804435\nAgenda\, Minutes\, and Board Packet\n*Revised R&D Contract* Original in Board Packet \n 
URL:https://rceb.org/event/board-of-directors-meeting-11/
CATEGORIES:Board Meeting,RCEB Community Updates,RCEB Public Meeting
END:VEVENT
BEGIN:VEVENT
DTSTART;TZID=America/Los_Angeles:20250224T190000
DTEND;TZID=America/Los_Angeles:20250224T210000
DTSTAMP:20260421T011109
CREATED:20250214T193131Z
LAST-MODIFIED:20250214T212321Z
UID:32675-1740423600-1740430800@rceb.org
SUMMARY:Board of Director's Meeting
DESCRIPTION:For language accommodation\, please email writetous@rceb.org by the end of the Tuesday before the board meeting. \nSimultaneous Spanish interpretation is provided at this meeting. \nTendremos un intérprete de español en esta reunión. \nBoard meetings are usually the 4th Monday of every month – no board meetings in July\, August\, or December. \nPlease join us on Zoom Webinar: https://us06web.zoom.us/j/83808712069?pwd=bLJLrCFMVYX1q7gREDprCCgbB8vGTa.1\nWebinar ID: 838 0871 2069\nPasscode: 687783\nAgenda and Minutes\nDelegate Conservatorship Policy Draft\n♥
URL:https://rceb.org/event/board-of-directors-meeting-12/
CATEGORIES:Board Meeting,RCEB Community Updates,RCEB Public Meeting
END:VEVENT
END:VCALENDAR