BEGIN:VCALENDAR
VERSION:2.0
PRODID:-//RCEB - ECPv6.15.20//NONSGML v1.0//EN
CALSCALE:GREGORIAN
METHOD:PUBLISH
X-ORIGINAL-URL:https://rceb.org
X-WR-CALDESC:Events for RCEB
REFRESH-INTERVAL;VALUE=DURATION:PT1H
X-Robots-Tag:noindex
X-PUBLISHED-TTL:PT1H
BEGIN:VTIMEZONE
TZID:America/Los_Angeles
BEGIN:DAYLIGHT
TZOFFSETFROM:-0800
TZOFFSETTO:-0700
TZNAME:PDT
DTSTART:20250309T100000
END:DAYLIGHT
BEGIN:STANDARD
TZOFFSETFROM:-0700
TZOFFSETTO:-0800
TZNAME:PST
DTSTART:20251102T090000
END:STANDARD
BEGIN:DAYLIGHT
TZOFFSETFROM:-0800
TZOFFSETTO:-0700
TZNAME:PDT
DTSTART:20260308T100000
END:DAYLIGHT
BEGIN:STANDARD
TZOFFSETFROM:-0700
TZOFFSETTO:-0800
TZNAME:PST
DTSTART:20261101T090000
END:STANDARD
BEGIN:DAYLIGHT
TZOFFSETFROM:-0800
TZOFFSETTO:-0700
TZNAME:PDT
DTSTART:20270314T100000
END:DAYLIGHT
BEGIN:STANDARD
TZOFFSETFROM:-0700
TZOFFSETTO:-0800
TZNAME:PST
DTSTART:20271107T090000
END:STANDARD
END:VTIMEZONE
BEGIN:VEVENT
DTSTART;TZID=America/Los_Angeles:20260323T190000
DTEND;TZID=America/Los_Angeles:20260323T203000
DTSTAMP:20260422T033934
CREATED:20260226T200711Z
LAST-MODIFIED:20260314T011256Z
UID:63241-1774292400-1774297800@rceb.org
SUMMARY:Board of Director’s Meeting
DESCRIPTION:For language accommodation\, please email writetous@rceb.org by the end of the Tuesday before the board meeting. \nSimultaneous Spanish interpretation is provided at this meeting. \nBoard meetings are usually the 4th Monday of every month – no board meetings in July\, August\, or December. \nAgenda\, Minutes\, and Board Packet \nClick on the Link Below to Join: \nhttps://us06web.zoom.us/j/81708830144?pwd=J0Kv4iuCbcM7YOrS1gem2PFXVa6uXi.1 \nPasscode: 562516 \nWebinar ID: 817 0883 0144 \n\nInterested in Joining the Board of Directors?\nCheck out our news page Recruitment-board-of-directors
URL:https://rceb.org/event/board-of-directors-meeting-21/
CATEGORIES:Board Meeting
END:VEVENT
END:VCALENDAR